{
 "currentVersion": 11.3,
 "serviceDescription": "FEMA_BRIC/Fire_Susceptibility",
 "name": "FEMA_BRIC/Fire_Susceptibility",
 "description": "",
 "extent": {
  "xmin": 2601734.5244005085,
  "ymin": 1230433.4339477434,
  "xmax": 2674844.5244005085,
  "ymax": 1315393.4339477434,
  "spatialReference": {
   "wkid": 102605,
   "latestWkid": 8826
  }
 },
 "initialExtent": {
  "xmin": 2601734.5244005085,
  "ymin": 1230433.4339477434,
  "xmax": 2674844.5244005085,
  "ymax": 1315393.4339477434,
  "spatialReference": {
   "wkid": 102605,
   "latestWkid": 8826
  }
 },
 "fullExtent": {
  "xmin": 2601734.5244005085,
  "ymin": 1230433.4339477434,
  "xmax": 2674844.5244005085,
  "ymax": 1315393.4339477434,
  "spatialReference": {
   "wkid": 102605,
   "latestWkid": 8826
  }
 },
 "sortableFields": "",
 "bandCount": 1,
 "pixelType": "F32",
 "minValues": [
  2067
 ],
 "maxValues": [
  67554.4921875
 ],
 "meanValues": [
  23661.491537308
 ],
 "stdvValues": [
  9755.4812966815
 ],
 "hasMultidimensions": false,
 "pixelSizeX": 30,
 "pixelSizeY": 30,
 "meanPixelSize": 30,
 "datasetFormat": "TIFF",
 "uncompressedSize": 27606336,
 "blockWidth": 128,
 "blockHeight": 128,
 "compressionType": "LZW",
 "bandNames": [
  "Band_1"
 ],
 "allowCopy": true,
 "allowAnalysis": true,
 "itemAccess": false,
 "inspectionCapabilities": "",
 "noDataValue": -3.4028230607370965E38,
 "noDataValues": [
  -3.4028230607370965E38
 ],
 "minPixelSize": 0,
 "maxPixelSize": 0,
 "copyrightText": "",
 "serviceDataType": "esriImageServiceDataTypeGeneric",
 "serviceSourceType": "esriImageServiceSourceTypeDataset",
 "objectIdField": "",
 "fields": [],
 "capabilities": "Image,Metadata,Mensuration",
 "defaultMosaicMethod": "Center",
 "allowedMosaicMethods": "",
 "sortField": "",
 "sortValue": null,
 "sortAscending": true,
 "mosaicOperator": "First",
 "defaultCompressionQuality": 75,
 "defaultResamplingMethod": "Bilinear",
 "maxImageHeight": 4100,
 "maxImageWidth": 15000,
 "allowRasterFunction": true,
 "rasterFunctionInfos": [
  {
   "name": "None",
   "description": "",
   "help": ""
  }
 ],
 "rasterTypeInfos": [
  {
   "name": "Raster Dataset",
   "description": "Supports all ArcGIS Raster Datasets",
   "help": ""
  }
 ],
 "mensurationCapabilities": "Basic",
 "hasHistograms": true,
 "hasColormap": false,
 "hasRasterAttributeTable": false,
 "minScale": 0,
 "maxScale": 0,
 "exportTilesAllowed": false,
 "supportsStatistics": false,
 "supportsAdvancedQueries": false,
 "editFieldsInfo": null,
 "ownershipBasedAccessControlForRasters": null,
 "allowComputeTiePoints": false,
 "useStandardizedQueries": true,
 "advancedQueryCapabilities": {
  "useStandardizedQueries": true,
  "supportsStatistics": false,
  "supportsOrderBy": false,
  "supportsDistinct": false,
  "supportsPagination": false
 },
 "spatialReference": {
  "wkid": 102605,
  "latestWkid": 8826
 }
}
