{
 "currentVersion": 11.3,
 "serviceDescription": "Lidar/Topography_SE_Idaho_Counties",
 "name": "Lidar/Topography_SE_Idaho_Counties",
 "description": "",
 "extent": {
  "xmin": 2561543.5244005085,
  "ymin": 1200261.4339477434,
  "xmax": 2744655.5244005085,
  "ymax": 1323832.4339477434,
  "spatialReference": {
   "wkid": 102605,
   "latestWkid": 8826,
   "vcsWkid": 5703,
   "latestVcsWkid": 5703
  }
 },
 "initialExtent": {
  "xmin": 2561543.5244005085,
  "ymin": 1200261.4339477434,
  "xmax": 2744655.5244005085,
  "ymax": 1323832.4339477434,
  "spatialReference": {
   "wkid": 102605,
   "latestWkid": 8826,
   "vcsWkid": 5703,
   "latestVcsWkid": 5703
  }
 },
 "fullExtent": {
  "xmin": 2561543.5244005085,
  "ymin": 1200261.4339477434,
  "xmax": 2744655.5244005085,
  "ymax": 1323832.4339477434,
  "spatialReference": {
   "wkid": 102605,
   "latestWkid": 8826,
   "vcsWkid": 5703,
   "latestVcsWkid": 5703
  }
 },
 "sortableFields": "",
 "heightModelInfo": {
  "heightModel": "gravity_related_height",
  "vertCRS": "NAVD_1988",
  "heightUnit": "meter"
 },
 "bandCount": 1,
 "pixelType": "F32",
 "minValues": [
  664.23498535156
 ],
 "maxValues": [
  3035.9025878906
 ],
 "meanValues": [
  1752.9104130482
 ],
 "stdvValues": [
  293.15618219627
 ],
 "hasMultidimensions": false,
 "pixelSizeX": 1,
 "pixelSizeY": 1,
 "meanPixelSize": 1,
 "datasetFormat": "TIFF",
 "uncompressedSize": 90509331808,
 "blockWidth": 128,
 "blockHeight": 128,
 "compressionType": "LZW",
 "bandNames": [
  "Band_1"
 ],
 "allowCopy": true,
 "allowAnalysis": true,
 "itemAccess": false,
 "inspectionCapabilities": "",
 "noDataValue": 0,
 "noDataValues": [
  0
 ],
 "minPixelSize": 0,
 "maxPixelSize": 0,
 "copyrightText": "",
 "serviceDataType": "esriImageServiceDataTypeElevation",
 "serviceSourceType": "esriImageServiceSourceTypeDataset",
 "objectIdField": "",
 "fields": [],
 "capabilities": "Image,Metadata,Mensuration",
 "defaultMosaicMethod": "Center",
 "allowedMosaicMethods": "",
 "sortField": "",
 "sortValue": null,
 "sortAscending": true,
 "mosaicOperator": "First",
 "defaultCompressionQuality": 75,
 "defaultResamplingMethod": "Bilinear",
 "maxImageHeight": 4100,
 "maxImageWidth": 15000,
 "allowRasterFunction": true,
 "rasterFunctionInfos": [
  {
   "name": "None",
   "description": "Make a Raster or Raster Dataset into a Function Raster Dataset.",
   "help": ""
  },
  {
   "name": "Aspect",
   "description": "Shows which direction a pixel is facing, where 0 is due north and angles increase clockwise to 360.",
   "help": ""
  },
  {
   "name": "Hillshade",
   "description": "Creates a 3D representation of the surface, with the sun's relative position taken into account for shading the image.",
   "help": ""
  },
  {
   "name": "Meters to Feet",
   "description": "Converts elevation units from meters (source data) to feet.",
   "help": "Apply this to an elevation raster where elevation pixel values are expressed in meters."
  },
  {
   "name": "Shaded Relief",
   "description": "A raster function template.",
   "help": ""
  },
  {
   "name": "Slope in Degree",
   "description": "A raster function template.",
   "help": ""
  },
  {
   "name": "Slope in Percent rise",
   "description": "A raster function template.",
   "help": ""
  }
 ],
 "rasterTypeInfos": [
  {
   "name": "Raster Dataset",
   "description": "Supports all ArcGIS Raster Datasets",
   "help": ""
  }
 ],
 "mensurationCapabilities": "Basic",
 "hasHistograms": true,
 "hasColormap": false,
 "hasRasterAttributeTable": false,
 "minScale": 0,
 "maxScale": 0,
 "exportTilesAllowed": false,
 "supportsStatistics": false,
 "supportsAdvancedQueries": false,
 "editFieldsInfo": null,
 "ownershipBasedAccessControlForRasters": null,
 "allowComputeTiePoints": false,
 "useStandardizedQueries": true,
 "advancedQueryCapabilities": {
  "useStandardizedQueries": true,
  "supportsStatistics": false,
  "supportsOrderBy": false,
  "supportsDistinct": false,
  "supportsPagination": false
 },
 "spatialReference": {
  "wkid": 102605,
  "latestWkid": 8826,
  "vcsWkid": 5703,
  "latestVcsWkid": 5703
 }
}
