{
 "currentVersion": 11.3,
 "serviceDescription": "NED/Topography_Slope_Steepness_Rating",
 "name": "NED/Topography_Slope_Steepness_Rating",
 "description": "",
 "extent": {
  "xmin": -2354941.263075389,
  "ymin": 992990.7730424833,
  "xmax": -504321.26307538897,
  "ymax": 3165590.7730424833,
  "spatialReference": {
   "wkid": 102039,
   "latestWkid": 102039,
   "vcsWkid": 5703,
   "latestVcsWkid": 5703
  }
 },
 "initialExtent": {
  "xmin": -2354941.263075389,
  "ymin": 992990.7730424833,
  "xmax": -504321.26307538897,
  "ymax": 3165590.7730424833,
  "spatialReference": {
   "wkid": 102039,
   "latestWkid": 102039,
   "vcsWkid": 5703,
   "latestVcsWkid": 5703
  }
 },
 "fullExtent": {
  "xmin": -2354941.263075389,
  "ymin": 992990.7730424833,
  "xmax": -504321.26307538897,
  "ymax": 3165590.7730424833,
  "spatialReference": {
   "wkid": 102039,
   "latestWkid": 102039,
   "vcsWkid": 5703,
   "latestVcsWkid": 5703
  }
 },
 "sortableFields": "",
 "heightModelInfo": {
  "heightModel": "gravity_related_height",
  "vertCRS": "NAVD_1988",
  "heightUnit": "meter"
 },
 "bandCount": 1,
 "pixelType": "U4",
 "minValues": [
  1
 ],
 "maxValues": [
  10
 ],
 "meanValues": [
  4.3553987303711
 ],
 "stdvValues": [
  2.548337179054
 ],
 "hasMultidimensions": false,
 "pixelSizeX": 10,
 "pixelSizeY": 10,
 "meanPixelSize": 10,
 "datasetFormat": "TIFF",
 "uncompressedSize": 20103285060,
 "blockWidth": 128,
 "blockHeight": 128,
 "compressionType": "LZW",
 "bandNames": [
  "Band_1"
 ],
 "allowCopy": true,
 "allowAnalysis": true,
 "itemAccess": false,
 "inspectionCapabilities": "",
 "noDataValue": 0,
 "noDataValues": [
  0
 ],
 "minPixelSize": 0,
 "maxPixelSize": 0,
 "copyrightText": "",
 "serviceDataType": "esriImageServiceDataTypeThematic",
 "serviceSourceType": "esriImageServiceSourceTypeDataset",
 "objectIdField": "",
 "fields": [],
 "capabilities": "Image,Metadata,Mensuration",
 "defaultMosaicMethod": "Center",
 "allowedMosaicMethods": "",
 "sortField": "",
 "sortValue": null,
 "sortAscending": true,
 "mosaicOperator": "First",
 "defaultCompressionQuality": 75,
 "defaultResamplingMethod": "Bilinear",
 "maxImageHeight": 4100,
 "maxImageWidth": 15000,
 "allowRasterFunction": true,
 "rasterFunctionInfos": [
  {
   "name": "None",
   "description": "",
   "help": ""
  }
 ],
 "rasterTypeInfos": [
  {
   "name": "Raster Dataset",
   "description": "Supports all ArcGIS Raster Datasets",
   "help": ""
  }
 ],
 "mensurationCapabilities": "Basic",
 "hasHistograms": true,
 "hasColormap": false,
 "hasRasterAttributeTable": true,
 "minScale": 0,
 "maxScale": 0,
 "exportTilesAllowed": false,
 "supportsStatistics": false,
 "supportsAdvancedQueries": false,
 "editFieldsInfo": null,
 "ownershipBasedAccessControlForRasters": null,
 "allowComputeTiePoints": false,
 "useStandardizedQueries": true,
 "advancedQueryCapabilities": {
  "useStandardizedQueries": true,
  "supportsStatistics": false,
  "supportsOrderBy": false,
  "supportsDistinct": false,
  "supportsPagination": false
 },
 "spatialReference": {
  "wkid": 102039,
  "latestWkid": 102039,
  "vcsWkid": 5703,
  "latestVcsWkid": 5703
 }
}
