{
 "currentVersion": 11.3,
 "serviceDescription": "Topography of the Western US was developed using the USGS NED. It is a single, seamless TIF file originally designed to support the NASA RECOVER wildfire decision support system (DSS). Embedded within this image service are various raster function chains or templates that allow the user to easily view/analyze aspect, slope, and hillshade as well.",
 "name": "NED/Topography_WesternUS",
 "description": "Topography of the Western US was developed using the USGS NED. It is a single, seamless TIF file originally designed to support the NASA RECOVER wildfire decision support system (DSS). Embedded within this image service are various raster function chains or templates that allow the user to easily view/analyze aspect, slope, and hillshade as well.",
 "extent": {
  "xmin": -2354941.263075389,
  "ymin": 992990.7730424833,
  "xmax": -504321.26307538897,
  "ymax": 3165590.7730424833,
  "spatialReference": {
   "wkid": 102039,
   "latestWkid": 102039
  }
 },
 "initialExtent": {
  "xmin": -2354941.263075389,
  "ymin": 992990.7730424833,
  "xmax": -504321.26307538897,
  "ymax": 3165590.7730424833,
  "spatialReference": {
   "wkid": 102039,
   "latestWkid": 102039
  }
 },
 "fullExtent": {
  "xmin": -2354941.263075389,
  "ymin": 992990.7730424833,
  "xmax": -504321.26307538897,
  "ymax": 3165590.7730424833,
  "spatialReference": {
   "wkid": 102039,
   "latestWkid": 102039
  }
 },
 "sortableFields": "",
 "bandCount": 1,
 "pixelType": "S16",
 "minValues": [
  -85
 ],
 "maxValues": [
  4414
 ],
 "meanValues": [
  1446.6113323833
 ],
 "stdvValues": [
  702.94455780808
 ],
 "hasMultidimensions": false,
 "pixelSizeX": 10,
 "pixelSizeY": 10,
 "meanPixelSize": 10,
 "datasetFormat": "TIFF",
 "uncompressedSize": 80413140240,
 "blockWidth": 128,
 "blockHeight": 128,
 "compressionType": "LZW",
 "bandNames": [
  "Band_1"
 ],
 "allowCopy": true,
 "allowAnalysis": true,
 "itemAccess": false,
 "inspectionCapabilities": "",
 "noDataValue": -9999,
 "noDataValues": [
  -9999
 ],
 "minPixelSize": 0,
 "maxPixelSize": 0,
 "copyrightText": "USGS and the GIS TReC @ ISU",
 "serviceDataType": "esriImageServiceDataTypeElevation",
 "serviceSourceType": "esriImageServiceSourceTypeDataset",
 "objectIdField": "",
 "fields": [],
 "capabilities": "Mensuration,Image,Metadata",
 "defaultMosaicMethod": "Center",
 "allowedMosaicMethods": "",
 "sortField": "",
 "sortValue": null,
 "sortAscending": true,
 "mosaicOperator": "First",
 "defaultCompressionQuality": 75,
 "defaultResamplingMethod": "Bilinear",
 "maxImageHeight": 4100,
 "maxImageWidth": 15000,
 "allowRasterFunction": true,
 "rasterFunctionInfos": [
  {
   "name": "None",
   "description": "Make a Raster or Raster Dataset into a Function Raster Dataset.",
   "help": ""
  },
  {
   "name": "Aspect",
   "description": "A raster function template.",
   "help": ""
  },
  {
   "name": "Hillshading",
   "description": "A raster function template.",
   "help": ""
  },
  {
   "name": "Shaded Relief",
   "description": "A raster function template.",
   "help": ""
  },
  {
   "name": "Slope in Degree",
   "description": "A raster function template.",
   "help": ""
  },
  {
   "name": "Slope in Percent rise",
   "description": "A raster function template.",
   "help": ""
  },
  {
   "name": "Meters to Feet",
   "description": "Converts elevation units from meters (source data) to feet.",
   "help": "Apply this to an elevation raster where elevation pixel values are expressed in meters."
  }
 ],
 "rasterTypeInfos": [
  {
   "name": "Raster Dataset",
   "description": "Supports all ArcGIS Raster Datasets",
   "help": ""
  }
 ],
 "mensurationCapabilities": "Basic",
 "hasHistograms": true,
 "hasColormap": false,
 "hasRasterAttributeTable": false,
 "minScale": 0,
 "maxScale": 0,
 "exportTilesAllowed": false,
 "supportsStatistics": false,
 "supportsAdvancedQueries": false,
 "editFieldsInfo": null,
 "ownershipBasedAccessControlForRasters": null,
 "allowComputeTiePoints": false,
 "useStandardizedQueries": true,
 "advancedQueryCapabilities": {
  "useStandardizedQueries": true,
  "supportsStatistics": false,
  "supportsOrderBy": false,
  "supportsDistinct": false,
  "supportsPagination": false
 },
 "spatialReference": {
  "wkid": 102039,
  "latestWkid": 102039
 },
 "resampling": false
}
