{
 "currentVersion": 11.3,
 "serviceDescription": "RECOVER/NDVI_Maximum",
 "name": "RECOVER/NDVI_Maximum",
 "description": "",
 "extent": {
  "xmin": -2354934.7808999997,
  "ymin": 992991.5648999996,
  "xmax": -504319.7226,
  "ymax": 3165591.4399999995,
  "spatialReference": {
   "wkid": 102039,
   "latestWkid": 102039
  }
 },
 "initialExtent": {
  "xmin": -2354934.7808999997,
  "ymin": 992991.5648999996,
  "xmax": -504319.7226,
  "ymax": 3165591.4399999995,
  "spatialReference": {
   "wkid": 102039,
   "latestWkid": 102039
  }
 },
 "fullExtent": {
  "xmin": -2354934.7808999997,
  "ymin": 992991.5648999996,
  "xmax": -504319.7226,
  "ymax": 3165591.4399999995,
  "spatialReference": {
   "wkid": 102039,
   "latestWkid": 102039
  }
 },
 "sortableFields": "",
 "bandCount": 1,
 "pixelType": "S16",
 "minValues": [
  -241
 ],
 "maxValues": [
  9999
 ],
 "meanValues": [
  2643.2179103391
 ],
 "stdvValues": [
  1213.8941773134
 ],
 "hasMultidimensions": false,
 "pixelSizeX": 29.999595679872904,
 "pixelSizeY": 29.999998275338303,
 "meanPixelSize": 29.999796977605605,
 "datasetFormat": "TIFF",
 "uncompressedSize": 8934889920,
 "blockWidth": 128,
 "blockHeight": 128,
 "compressionType": "LZW",
 "bandNames": [
  "Band_1"
 ],
 "allowCopy": true,
 "allowAnalysis": true,
 "itemAccess": false,
 "inspectionCapabilities": "",
 "noDataValue": -32768,
 "noDataValues": [
  -32768
 ],
 "minPixelSize": 0,
 "maxPixelSize": 0,
 "copyrightText": "",
 "serviceDataType": "esriImageServiceDataTypeScientific",
 "serviceSourceType": "esriImageServiceSourceTypeDataset",
 "objectIdField": "",
 "fields": [],
 "capabilities": "Image,Metadata,Mensuration",
 "defaultMosaicMethod": "Center",
 "allowedMosaicMethods": "",
 "sortField": "",
 "sortValue": null,
 "sortAscending": true,
 "mosaicOperator": "First",
 "defaultCompressionQuality": 75,
 "defaultResamplingMethod": "Bilinear",
 "maxImageHeight": 4100,
 "maxImageWidth": 15000,
 "allowRasterFunction": true,
 "rasterFunctionInfos": [
  {
   "name": "None",
   "description": "",
   "help": ""
  }
 ],
 "rasterTypeInfos": [
  {
   "name": "Raster Dataset",
   "description": "Supports all ArcGIS Raster Datasets",
   "help": ""
  }
 ],
 "mensurationCapabilities": "Basic",
 "hasHistograms": true,
 "hasColormap": false,
 "hasRasterAttributeTable": false,
 "minScale": 0,
 "maxScale": 0,
 "exportTilesAllowed": false,
 "supportsStatistics": false,
 "supportsAdvancedQueries": false,
 "editFieldsInfo": null,
 "ownershipBasedAccessControlForRasters": null,
 "allowComputeTiePoints": false,
 "useStandardizedQueries": true,
 "advancedQueryCapabilities": {
  "useStandardizedQueries": true,
  "supportsStatistics": false,
  "supportsOrderBy": false,
  "supportsDistinct": false,
  "supportsPagination": false
 },
 "spatialReference": {
  "wkid": 102039,
  "latestWkid": 102039
 }
}
