<?xml version="1.0" encoding="UTF-8" standalone="no"?>
<metadata xml:lang="en">
<Esri>
<CreaDate>20230911</CreaDate>
<CreaTime>12453900</CreaTime>
<ArcGISFormat>1.0</ArcGISFormat>
<SyncOnce>FALSE</SyncOnce>
<DataProperties>
<lineage>
<Process Date="20230911" Time="124539" ToolSource="c:\program files\arcgis\pro\Resources\ArcToolbox\toolboxes\3D Analyst Tools.tbx\Reclassify">Reclassify NDVI_Mean_clipped02.tif Value "32767 NODATA" C:\arcgisserver\NDVI_Baseline\NDVI_Mean_clippedReclass.tif DATA</Process>
<Process Date="20230911" Time="125645" ToolSource="c:\program files\arcgis\pro\Resources\ArcToolbox\toolboxes\Data Management Tools.tbx\Rename">Rename C:\arcgisserver\NDVI_Baseline\NDVI_Mean_clippedReclass.tif C:\arcgisserver\NDVI_Baseline\NDVI_Mean.tif RasterDataset</Process>
<Process Date="20231002" Time="094753" ToolSource="c:\program files\arcgis\pro\Resources\ArcToolbox\toolboxes\Data Management Tools.tbx\CopyRaster">CopyRaster NDVI_Mean_clippedReclass.tif C:\arcgisserver\NDVI_Baseline\NDVI_Mean02.tif # # -32768 NONE NONE "16 bit signed" NONE NONE "TIFF format" NONE CURRENT_SLICE NO_TRANSPOSE</Process>
</lineage>
<LayerFile>{"type":"CIMLayerDocument","version":"3.0.0","build":36057,"layers":["CIMPATH=viewmd/ndvi_mean_clippedreclass_tif.json"],"layerDefinitions":[{"type":"CIMRasterLayer","name":"NDVI_Mean_clippedReclass.tif","uRI":"CIMPATH=viewmd/ndvi_mean_clippedreclass_tif.json","sourceModifiedTime":{"type":"TimeInstant"},"useSourceMetadata":true,"description":"NDVI_Mean_clippedReclass.tif","layerElevation":{"type":"CIMLayerElevationSurface","elevationSurfaceLayerURI":"CIMPATH=Map/300bf2c5733b45e5a34b4fa404f893fe.json"},"expanded":true,"layerType":"Operational","showLegends":true,"visibility":true,"displayCacheType":"Permanent","maxDisplayCacheAge":5,"showPopups":true,"serviceLayerID":-1,"refreshRate":-1,"refreshRateUnit":"esriTimeUnitsSeconds","blendingMode":"Alpha","allowDrapingOnIntegratedMesh":true,"dataConnection":{"type":"CIMStandardDataConnection","workspaceConnectionString":"DATABASE=..\\..\\..\\arcgisserver\\NDVI_Baseline","workspaceFactory":"Raster","dataset":"NDVI_Mean_clippedReclass.tif","datasetType":"esriDTRasterDataset"},"colorizer":{"type":"CIMRasterClassifyColorizer","resamplingType":"NearestNeighbor","normalizationType":"Nothing","classBreaks":[{"type":"CIMRasterClassBreak","upperBound":-3088.55555555555566,"label":"-4,091 - -3,088.556","color":{"type":"CIMRGBColor","values":[255,255,217,100]}},{"type":"CIMRasterClassBreak","upperBound":-2086.11111111111131,"label":"-3,088.555 - -2,086.111","color":{"type":"CIMRGBColor","values":[237,248,177,100]}},{"type":"CIMRasterClassBreak","upperBound":-1083.666666666667,"label":"-2,086.11 - -1,083.667","color":{"type":"CIMRGBColor","values":[199,233,180,100]}},{"type":"CIMRasterClassBreak","upperBound":-81.2222222222225128,"label":"-1,083.666 - -81.222","color":{"type":"CIMRGBColor","values":[127,205,187,100]}},{"type":"CIMRasterClassBreak","upperBound":921.222222222221944,"label":"-81.221 - 921.222","color":{"type":"CIMRGBColor","values":[65,182,196,100]}},{"type":"CIMRasterClassBreak","upperBound":1923.66666666666652,"label":"921.223 - 1,923.667","color":{"type":"CIMRGBColor","values":[29,145,192,100]}},{"type":"CIMRasterClassBreak","upperBound":2926.11111111111086,"label":"1,923.668 - 2,926.111","color":{"type":"CIMRGBColor","values":[34,94,168,100]}},{"type":"CIMRasterClassBreak","upperBound":3928.5555555555552,"label":"2,926.112 - 3,928.556","color":{"type":"CIMRGBColor","values":[37,52,148,100]}},{"type":"CIMRasterClassBreak","upperBound":4931,"label":"3,928.557 - 4,931","color":{"type":"CIMRGBColor","values":[8,29,88,100]}}],"classificationMethod":"EqualInterval","colorRamp":{"type":"CIMMultipartColorRamp","colorSpace":{"type":"CIMICCColorSpace","url":"Default RGB"},"colorRamps":[{"type":"CIMLinearContinuousColorRamp","colorSpace":{"type":"CIMICCColorSpace","url":"Default RGB"},"fromColor":{"type":"CIMRGBColor","colorSpace":{"type":"CIMICCColorSpace","url":"Default RGB"},"values":[255,255,217,100]},"toColor":{"type":"CIMRGBColor","colorSpace":{"type":"CIMICCColorSpace","url":"Default RGB"},"values":[237,248,177,100]}},{"type":"CIMLinearContinuousColorRamp","colorSpace":{"type":"CIMICCColorSpace","url":"Default RGB"},"fromColor":{"type":"CIMRGBColor","colorSpace":{"type":"CIMICCColorSpace","url":"Default RGB"},"values":[237,248,177,100]},"toColor":{"type":"CIMRGBColor","colorSpace":{"type":"CIMICCColorSpace","url":"Default RGB"},"values":[199,233,180,100]}},{"type":"CIMLinearContinuousColorRamp","colorSpace":{"type":"CIMICCColorSpace","url":"Default RGB"},"fromColor":{"type":"CIMRGBColor","colorSpace":{"type":"CIMICCColorSpace","url":"Default RGB"},"values":[199,233,180,100]},"toColor":{"type":"CIMRGBColor","colorSpace":{"type":"CIMICCColorSpace","url":"Default RGB"},"values":[127,205,187,100]}},{"type":"CIMLinearContinuousColorRamp","colorSpace":{"type":"CIMICCColorSpace","url":"Default RGB"},"fromColor":{"type":"CIMRGBColor","colorSpace":{"type":"CIMICCColorSpace","url":"Default RGB"},"values":[127,205,187,100]},"toColor":{"type":"CIMRGBColor","colorSpace":{"type":"CIMICCColorSpace","url":"Default RGB"},"values":[65,182,196,100]}},{"type":"CIMLinearContinuousColorRamp","colorSpace":{"type":"CIMICCColorSpace","url":"Default RGB"},"fromColor":{"type":"CIMRGBColor","colorSpace":{"type":"CIMICCColorSpace","url":"Default RGB"},"values":[65,182,196,100]},"toColor":{"type":"CIMRGBColor","colorSpace":{"type":"CIMICCColorSpace","url":"Default RGB"},"values":[29,145,192,100]}},{"type":"CIMLinearContinuousColorRamp","colorSpace":{"type":"CIMICCColorSpace","url":"Default RGB"},"fromColor":{"type":"CIMRGBColor","colorSpace":{"type":"CIMICCColorSpace","url":"Default RGB"},"values":[29,145,192,100]},"toColor":{"type":"CIMRGBColor","colorSpace":{"type":"CIMICCColorSpace","url":"Default RGB"},"values":[34,94,168,100]}},{"type":"CIMLinearContinuousColorRamp","colorSpace":{"type":"CIMICCColorSpace","url":"Default RGB"},"fromColor":{"type":"CIMRGBColor","colorSpace":{"type":"CIMICCColorSpace","url":"Default RGB"},"values":[34,94,168,100]},"toColor":{"type":"CIMRGBColor","colorSpace":{"type":"CIMICCColorSpace","url":"Default RGB"},"values":[37,52,148,100]}},{"type":"CIMLinearContinuousColorRamp","colorSpace":{"type":"CIMICCColorSpace","url":"Default RGB"},"fromColor":{"type":"CIMRGBColor","colorSpace":{"type":"CIMICCColorSpace","url":"Default RGB"},"values":[37,52,148,100]},"toColor":{"type":"CIMRGBColor","colorSpace":{"type":"CIMICCColorSpace","url":"Default RGB"},"values":[8,29,88,100]}}],"weights":[0.125,0.125,0.125,0.125,0.125,0.125,0.125,0.125]},"field":"VALUE","minimumBreak":-4091,"showInAscendingOrder":true,"numberFormat":{"type":"CIMNumericFormat","alignmentOption":"esriAlignLeft","alignmentWidth":12,"roundingOption":"esriRoundNumberOfDecimals","roundingValue":3,"useSeparator":true}},"attributeTable":{"type":"CIMRasterTable","displayField":"Value","editable":true}}]}</LayerFile>
<itemProps>
<itemName Sync="TRUE">NDVI_Mean02.tif</itemName>
<itemLocation>
<linkage Sync="TRUE">file://C:\arcgisserver\NDVI_Baseline\NDVI_Mean02.tif</linkage>
<protocol Sync="TRUE">Local Area Network</protocol>
</itemLocation>
<imsContentType Sync="TRUE">002</imsContentType>
<nativeExtBox>
<westBL Sync="TRUE">-2354934.780900</westBL>
<eastBL Sync="TRUE">-504319.722600</eastBL>
<southBL Sync="TRUE">992991.564900</southBL>
<northBL Sync="TRUE">3165592.283632</northBL>
<exTypeCode Sync="TRUE">1</exTypeCode>
</nativeExtBox>
</itemProps>
<coordRef>
<type Sync="TRUE">Projected</type>
<geogcsn Sync="TRUE">GCS_North_American_1983</geogcsn>
<csUnits Sync="TRUE">Linear Unit: Meter (1.000000)</csUnits>
<projcsn Sync="TRUE">USA_Contiguous_Albers_Equal_Area_Conic_USGS_version</projcsn>
<peXml Sync="TRUE">&lt;ProjectedCoordinateSystem xsi:type='typens:ProjectedCoordinateSystem' xmlns:xsi='http://www.w3.org/2001/XMLSchema-instance' xmlns:xs='http://www.w3.org/2001/XMLSchema' xmlns:typens='http://www.esri.com/schemas/ArcGIS/3.0.0'&gt;&lt;WKT&gt;PROJCS[&amp;quot;USA_Contiguous_Albers_Equal_Area_Conic_USGS_version&amp;quot;,GEOGCS[&amp;quot;GCS_North_American_1983&amp;quot;,DATUM[&amp;quot;D_North_American_1983&amp;quot;,SPHEROID[&amp;quot;GRS_1980&amp;quot;,6378137.0,298.257222101]],PRIMEM[&amp;quot;Greenwich&amp;quot;,0.0],UNIT[&amp;quot;Degree&amp;quot;,0.0174532925199433]],PROJECTION[&amp;quot;Albers&amp;quot;],PARAMETER[&amp;quot;False_Easting&amp;quot;,0.0],PARAMETER[&amp;quot;False_Northing&amp;quot;,0.0],PARAMETER[&amp;quot;Central_Meridian&amp;quot;,-96.0],PARAMETER[&amp;quot;Standard_Parallel_1&amp;quot;,29.5],PARAMETER[&amp;quot;Standard_Parallel_2&amp;quot;,45.5],PARAMETER[&amp;quot;Latitude_Of_Origin&amp;quot;,23.0],UNIT[&amp;quot;Meter&amp;quot;,1.0],AUTHORITY[&amp;quot;Esri&amp;quot;,102039]]&lt;/WKT&gt;&lt;XOrigin&gt;-16901100&lt;/XOrigin&gt;&lt;YOrigin&gt;-6972200&lt;/YOrigin&gt;&lt;XYScale&gt;266467840.99085236&lt;/XYScale&gt;&lt;ZOrigin&gt;-100000&lt;/ZOrigin&gt;&lt;ZScale&gt;10000&lt;/ZScale&gt;&lt;MOrigin&gt;-100000&lt;/MOrigin&gt;&lt;MScale&gt;10000&lt;/MScale&gt;&lt;XYTolerance&gt;0.001&lt;/XYTolerance&gt;&lt;ZTolerance&gt;0.001&lt;/ZTolerance&gt;&lt;MTolerance&gt;0.001&lt;/MTolerance&gt;&lt;HighPrecision&gt;true&lt;/HighPrecision&gt;&lt;WKID&gt;102039&lt;/WKID&gt;&lt;LatestWKID&gt;102039&lt;/LatestWKID&gt;&lt;/ProjectedCoordinateSystem&gt;</peXml>
</coordRef>
<RasterProperties>
<General>
<PixelDepth Sync="TRUE">16</PixelDepth>
<HasColormap Sync="TRUE">FALSE</HasColormap>
<CompressionType Sync="TRUE">LZW</CompressionType>
<NumBands Sync="TRUE">1</NumBands>
<Format Sync="TRUE">TIFF</Format>
<HasPyramids Sync="TRUE">TRUE</HasPyramids>
<SourceType Sync="TRUE">continuous</SourceType>
<PixelType Sync="TRUE">signed integer</PixelType>
<NoDataValue Sync="TRUE">-32768</NoDataValue>
</General>
</RasterProperties>
</DataProperties>
<SyncDate>20231002</SyncDate>
<SyncTime>09475300</SyncTime>
<ModDate>20231002</ModDate>
<ModTime>09475300</ModTime>
</Esri>
<dataIdInfo>
<envirDesc Sync="TRUE">Microsoft Windows Server 2016 Technical Preview Version 10.0 (Build 14393) ; Esri ArcGIS 13.0.3.36057</envirDesc>
<dataLang>
<languageCode Sync="TRUE" value="eng"/>
<countryCode Sync="TRUE" value="USA"/>
</dataLang>
<idCitation>
<resTitle Sync="TRUE">NDVI Mean</resTitle>
<presForm>
<PresFormCd Sync="TRUE" value="005"/>
</presForm>
</idCitation>
<spatRpType>
<SpatRepTypCd Sync="TRUE" value="002"/>
</spatRpType>
<dataExt>
<geoEle>
<GeoBndBox esriExtentType="search">
<exTypeCode Sync="TRUE">1</exTypeCode>
<westBL Sync="TRUE">-127.842033</westBL>
<eastBL Sync="TRUE">-101.357724</eastBL>
<northBL Sync="TRUE">51.367426</northBL>
<southBL Sync="TRUE">29.265149</southBL>
</GeoBndBox>
</geoEle>
</dataExt>
<idAbs/>
<searchKeys>
<keyword>NASA</keyword>
<keyword>RECOVER</keyword>
<keyword>Wildfire</keyword>
<keyword>NDVI</keyword>
</searchKeys>
<idPurp>These data were derived from the NDVI Baseline multi-dimensional mosaic dataset and represent MEAN or average scaled NDVI values across the western United States. For more details refer to https://giscenter.isu.edu/pdf/PDF_NASA_RECOVER2/RECOVER_NDVI_Baseline.pdf</idPurp>
<idCredit/>
<resConst>
<Consts>
<useLimit/>
</Consts>
</resConst>
</dataIdInfo>
<mdLang>
<languageCode Sync="TRUE" value="eng"/>
<countryCode Sync="TRUE" value="USA"/>
</mdLang>
<mdChar>
<CharSetCd Sync="TRUE" value="004"/>
</mdChar>
<distInfo>
<distFormat>
<formatName Sync="TRUE">Raster Dataset</formatName>
</distFormat>
</distInfo>
<mdHrLv>
<ScopeCd Sync="TRUE" value="005"/>
</mdHrLv>
<mdHrLvName Sync="TRUE">dataset</mdHrLvName>
<refSysInfo>
<RefSystem>
<refSysID>
<identCode Sync="TRUE" code="102039"/>
<idCodeSpace Sync="TRUE">Esri</idCodeSpace>
<idVersion Sync="TRUE">8.1.2</idVersion>
</refSysID>
</RefSystem>
</refSysInfo>
<spatRepInfo>
<Georect>
<cellGeo>
<CellGeoCd Sync="TRUE" value="002"/>
</cellGeo>
<numDims Sync="TRUE">2</numDims>
<tranParaAv Sync="TRUE">1</tranParaAv>
<chkPtAv Sync="TRUE">0</chkPtAv>
<cornerPts>
<pos Sync="TRUE">-2354934.780900 992991.564900</pos>
</cornerPts>
<cornerPts>
<pos Sync="TRUE">-2354934.780900 3165592.283632</pos>
</cornerPts>
<cornerPts>
<pos Sync="TRUE">-504319.722600 3165592.283632</pos>
</cornerPts>
<cornerPts>
<pos Sync="TRUE">-504319.722600 992991.564900</pos>
</cornerPts>
<centerPt>
<pos Sync="TRUE">-1429627.251750 2079291.924266</pos>
</centerPt>
<axisDimension type="002">
<dimSize Sync="TRUE">61688</dimSize>
<dimResol>
<value Sync="TRUE" uom="m">29.999596</value>
</dimResol>
</axisDimension>
<axisDimension type="001">
<dimSize Sync="TRUE">72421</dimSize>
<dimResol>
<value Sync="TRUE" uom="m">29.999596</value>
</dimResol>
</axisDimension>
<ptInPixel>
<PixOrientCd Sync="TRUE" value="001"/>
</ptInPixel>
</Georect>
</spatRepInfo>
<contInfo>
<ImgDesc>
<contentTyp>
<ContentTypCd Sync="TRUE" value="001"/>
</contentTyp>
<covDim>
<Band>
<dimDescrp Sync="TRUE">Band_1</dimDescrp>
<maxVal Sync="TRUE">4931.000000</maxVal>
<minVal Sync="TRUE">-4091.000000</minVal>
<bitsPerVal Sync="TRUE">16</bitsPerVal>
<valUnit>
<UOM type="length"/>
</valUnit>
</Band>
</covDim>
</ImgDesc>
</contInfo>
<mdDateSt Sync="TRUE">20231002</mdDateSt>
</metadata>
