{
 "currentVersion": 11.3,
 "serviceDescription": "TopographyHillshade_WesternUS",
 "name": "TopographyHillshade_WesternUS",
 "description": "",
 "extent": {
  "xmin": -2354934.7808999997,
  "ymin": 992991.5648999996,
  "xmax": -504319.72259999975,
  "ymax": 3165595.7633919446,
  "spatialReference": {
   "wkid": 102039,
   "latestWkid": 102039,
   "vcsWkid": 5703,
   "latestVcsWkid": 5703
  }
 },
 "initialExtent": {
  "xmin": -2354934.7808999997,
  "ymin": 992991.5648999996,
  "xmax": -504319.72259999975,
  "ymax": 3165595.7633919446,
  "spatialReference": {
   "wkid": 102039,
   "latestWkid": 102039,
   "vcsWkid": 5703,
   "latestVcsWkid": 5703
  }
 },
 "fullExtent": {
  "xmin": -2354934.7808999997,
  "ymin": 992991.5648999996,
  "xmax": -504319.72259999975,
  "ymax": 3165595.7633919446,
  "spatialReference": {
   "wkid": 102039,
   "latestWkid": 102039,
   "vcsWkid": 5703,
   "latestVcsWkid": 5703
  }
 },
 "sortableFields": "",
 "heightModelInfo": {
  "heightModel": "gravity_related_height",
  "vertCRS": "NAVD_1988",
  "heightUnit": "meter"
 },
 "bandCount": 1,
 "pixelType": "U8",
 "minValues": [
  1
 ],
 "maxValues": [
  254
 ],
 "meanValues": [
  174.90322500574
 ],
 "stdvValues": [
  30.875590618249
 ],
 "hasMultidimensions": false,
 "pixelSizeX": 9.999973297057203,
 "pixelSizeY": 9.999973297057203,
 "meanPixelSize": 9.999973297057203,
 "datasetFormat": "TIFF",
 "uncompressedSize": 40206755182,
 "blockWidth": 128,
 "blockHeight": 128,
 "compressionType": "LZW",
 "bandNames": [
  "Band_1"
 ],
 "allowCopy": true,
 "allowAnalysis": true,
 "itemAccess": false,
 "inspectionCapabilities": "",
 "noDataValue": 255,
 "noDataValues": [
  255
 ],
 "minPixelSize": 0,
 "maxPixelSize": 0,
 "copyrightText": "",
 "serviceDataType": "esriImageServiceDataTypeGeneric",
 "serviceSourceType": "esriImageServiceSourceTypeDataset",
 "objectIdField": "",
 "fields": [],
 "capabilities": "Image,Metadata,Mensuration",
 "defaultMosaicMethod": "Center",
 "allowedMosaicMethods": "",
 "sortField": "",
 "sortValue": null,
 "sortAscending": true,
 "mosaicOperator": "First",
 "defaultCompressionQuality": 75,
 "defaultResamplingMethod": "Bilinear",
 "maxImageHeight": 4100,
 "maxImageWidth": 15000,
 "allowRasterFunction": true,
 "rasterFunctionInfos": [
  {
   "name": "None",
   "description": "",
   "help": ""
  }
 ],
 "rasterTypeInfos": [
  {
   "name": "Raster Dataset",
   "description": "Supports all ArcGIS Raster Datasets",
   "help": ""
  }
 ],
 "mensurationCapabilities": "Basic",
 "hasHistograms": true,
 "hasColormap": false,
 "hasRasterAttributeTable": true,
 "minScale": 0,
 "maxScale": 0,
 "exportTilesAllowed": false,
 "supportsStatistics": false,
 "supportsAdvancedQueries": false,
 "editFieldsInfo": null,
 "ownershipBasedAccessControlForRasters": null,
 "allowComputeTiePoints": false,
 "useStandardizedQueries": true,
 "advancedQueryCapabilities": {
  "useStandardizedQueries": true,
  "supportsStatistics": false,
  "supportsOrderBy": false,
  "supportsDistinct": false,
  "supportsPagination": false
 },
 "spatialReference": {
  "wkid": 102039,
  "latestWkid": 102039,
  "vcsWkid": 5703,
  "latestVcsWkid": 5703
 }
}
