View In:
ArcGIS JavaScript
ArcGIS Online Map Viewer
ArcGIS Earth
Service Description: Climate/GDD_Annual_1980_2022
Name: Climate/GDD_Annual_1980_2022
Description:
Single Fused Map Cache: false
Extent:
XMin: 2053028.6968
YMin: 1040356.3546999991
XMax: 2845028.6968
YMax: 2061356.354699999
Spatial Reference: 102605
(8826)
Initial Extent:
XMin: 2053028.6968
YMin: 1040356.3546999991
XMax: 2845028.6968
YMax: 2061356.354699999
Spatial Reference: 102605
(8826)
Full Extent:
XMin: 2053028.6968
YMin: 1040356.3546999991
XMax: 2845028.6968
YMax: 2061356.354699999
Spatial Reference: 102605
(8826)
Time Info:
Start Time Field: StdTime
End Time Field: StdTime
Time Extent:
[1980/12/31 00:00:00 UTC, 2022/12/31 00:00:00 UTC]
Time Reference:
N/A
Pixel Size X: 1000.0
Pixel Size Y: 1000.0
Band Count: 1
Pixel Type: F32
RasterFunction Infos: {"rasterFunctionInfos": [{
"name": "None",
"description": "Make a Raster or Raster Dataset into a Function Raster Dataset.",
"help": ""
}]}
Mensuration Capabilities: Basic
Inspection Capabilities:
Has Histograms: true
Has Colormap: false
Has Multi Dimensions : true
Rendering Rule:
Min Scale: 0
Max Scale: 0
Copyright Text:
Service Data Type: esriImageServiceDataTypeGeneric
Min Values: 0
Max Values: 5450.5
Mean Values: 2432.746831350071
Standard Deviation Values: 775.4682709800047
Object ID Field:
Fields:
None
Default Mosaic Method: Center
Allowed Mosaic Methods:
SortField:
SortValue: null
Mosaic Operator: First
Default Compression Quality: 75
Default Resampling Method: Bilinear
Max Record Count: null
Max Image Height: 4100
Max Image Width: 15000
Max Download Image Count: null
Max Mosaic Image Count: null
Allow Raster Function: true
Allow Copy: true
Allow Analysis: true
Allow Compute TiePoints: false
Supports Statistics: false
Supports Advanced Queries: false
Use StandardizedQueries: true
Raster Type Infos:
Name: Raster Dataset
Description: Supports all ArcGIS Raster Datasets
Help:
Has Raster Attribute Table: false
Edit Fields Info: null
Ownership Based AccessControl For Rasters: null
Child Resources:
Info
Histograms
Statistics
Key Properties
Legend
Raster Function Infos
Multidimensional Info
Slices
Supported Operations:
Export Image
Identify
Measure
Compute Histograms
Compute Statistics Histograms
Get Samples
Compute Class Statistics
Query Boundary
Compute Pixel Location
Compute Angles
Validate
Project