View In:
ArcGIS JavaScript
ArcGIS Online Map Viewer
ArcGIS Earth
Service Description: FEMA_BRIC/Firesheds_Idaho_BuildingExposure
Name: FEMA_BRIC/Firesheds_Idaho_BuildingExposure
Description:
Single Fused Map Cache: false
Extent:
XMin: 2232003.283196852
YMin: 1188745.9040656264
XMax: 2758683.283196852
YMax: 1992085.9040656264
Spatial Reference: PROJCS["NAD_1983_Transverse_Mercator",GEOGCS["GCS_North_American_1983",DATUM["D_North_American_1983",SPHEROID["GRS_1980",6378137.0,298.257222101]],PRIMEM["Greenwich",0.0],UNIT["Degree",0.0174532925199433]],PROJECTION["Transverse_Mercator"],PARAMETER["False_Easting",2500000.0],PARAMETER["False_Northing",1200000.0],PARAMETER["Central_Meridian",-114.0],PARAMETER["Scale_Factor",0.9996],PARAMETER["Latitude_Of_Origin",42.0],UNIT["Meter",1.0]]
Initial Extent:
XMin: 2232003.283196852
YMin: 1188745.9040656264
XMax: 2758683.283196852
YMax: 1992085.9040656264
Spatial Reference: PROJCS["NAD_1983_Transverse_Mercator",GEOGCS["GCS_North_American_1983",DATUM["D_North_American_1983",SPHEROID["GRS_1980",6378137.0,298.257222101]],PRIMEM["Greenwich",0.0],UNIT["Degree",0.0174532925199433]],PROJECTION["Transverse_Mercator"],PARAMETER["False_Easting",2500000.0],PARAMETER["False_Northing",1200000.0],PARAMETER["Central_Meridian",-114.0],PARAMETER["Scale_Factor",0.9996],PARAMETER["Latitude_Of_Origin",42.0],UNIT["Meter",1.0]]
Full Extent:
XMin: 2232003.283196852
YMin: 1188745.9040656264
XMax: 2758683.283196852
YMax: 1992085.9040656264
Spatial Reference: PROJCS["NAD_1983_Transverse_Mercator",GEOGCS["GCS_North_American_1983",DATUM["D_North_American_1983",SPHEROID["GRS_1980",6378137.0,298.257222101]],PRIMEM["Greenwich",0.0],UNIT["Degree",0.0174532925199433]],PROJECTION["Transverse_Mercator"],PARAMETER["False_Easting",2500000.0],PARAMETER["False_Northing",1200000.0],PARAMETER["Central_Meridian",-114.0],PARAMETER["Scale_Factor",0.9996],PARAMETER["Latitude_Of_Origin",42.0],UNIT["Meter",1.0]]
Pixel Size X: 90.0
Pixel Size Y: 90.0
Band Count: 1
Pixel Type: U8
RasterFunction Infos: {"rasterFunctionInfos": [{
"name": "None",
"description": "",
"help": ""
}]}
Mensuration Capabilities: Basic
Inspection Capabilities:
Has Histograms: true
Has Colormap: false
Has Multi Dimensions : false
Rendering Rule:
Min Scale: 0
Max Scale: 0
Copyright Text:
Service Data Type: esriImageServiceDataTypeGeneric
Min Values: 1
Max Values: 42
Mean Values: 1.243215387843
Standard Deviation Values: 1.2624608767093
Object ID Field:
Fields:
None
Default Mosaic Method: Center
Allowed Mosaic Methods:
SortField:
SortValue: null
Mosaic Operator: First
Default Compression Quality: 75
Default Resampling Method: Bilinear
Max Record Count: null
Max Image Height: 4100
Max Image Width: 15000
Max Download Image Count: null
Max Mosaic Image Count: null
Allow Raster Function: true
Allow Copy: true
Allow Analysis: true
Allow Compute TiePoints: false
Supports Statistics: false
Supports Advanced Queries: false
Use StandardizedQueries: true
Raster Type Infos:
Name: Raster Dataset
Description: Supports all ArcGIS Raster Datasets
Help:
Has Raster Attribute Table: false
Edit Fields Info: null
Ownership Based AccessControl For Rasters: null
Child Resources:
Info
Histograms
Statistics
Key Properties
Legend
Raster Function Infos
Supported Operations:
Export Image
Identify
Measure
Compute Histograms
Compute Statistics Histograms
Get Samples
Compute Class Statistics
Query Boundary
Compute Pixel Location
Compute Angles
Validate
Project