View In:
ArcGIS JavaScript
ArcGIS Online Map Viewer
ArcGIS Earth
Service Description: These data are an assemblage of all bare earth LIDAR data collected in the State of Idaho. This service is created and maintained by Idaho State University's GIS TReC in coordination with the Idaho Lidar Consortium (ILC). These raster data have 1m spatial resolution. The elevation image service contains embedded aspect, slope, and hillshade layers as raster processing templates. These are accessible through both ArcMap and ArcGIS Pro. This layer uses Idaho Transverse Mercator, NAD83 as its spatial reference. This is the spatial reference system Standard in Idaho. The image service layer was last updated on 20230215
Name: Lidar/Lidar_Idaho
Description: These data are an assemblage of all bare earth LIDAR data collected in the State of Idaho. This service is created and maintained by Idaho State University's GIS TReC in coordination with the Idaho Lidar Consortium (ILC). These raster data have 1m spatial resolution. The elevation image service contains embedded aspect, slope, and hillshade layers as raster processing templates. These are accessible through both ArcMap and ArcGIS Pro. This layer uses Idaho Transverse Mercator, NAD83 as its spatial reference. This is the spatial reference system Standard in Idaho. The image service layer was last updated on 20230215
Single Fused Map Cache: false
Extent:
XMin: 2240625.5244005085
YMin: 1177797.4339477434
XMax: 2748490.5244005085
YMax: 1982795.4339477434
Spatial Reference: 102605
(8826)
VCSWkid(5703)
LatestVCSWkid(5703)
Initial Extent:
XMin: 2240625.5244005085
YMin: 1177797.4339477434
XMax: 2748490.5244005085
YMax: 1982795.4339477434
Spatial Reference: 102605
(8826)
VCSWkid(5703)
LatestVCSWkid(5703)
Full Extent:
XMin: 2240625.5244005085
YMin: 1177797.4339477434
XMax: 2748490.5244005085
YMax: 1982795.4339477434
Spatial Reference: 102605
(8826)
VCSWkid(5703)
LatestVCSWkid(5703)
Pixel Size X: 1.0
Pixel Size Y: 1.0
Band Count: 1
Pixel Type: F32
RasterFunction Infos: {"rasterFunctionInfos": [
{
"name": "None",
"description": "Make a Raster or Raster Dataset into a Function Raster Dataset.",
"help": ""
},
{
"name": "None",
"description": "Make a Raster or Raster Dataset into a Function Raster Dataset.",
"help": ""
},
{
"name": "Aspect",
"description": "Shows which direction a pixel is facing, where 0 is due north and angles increase clockwise to 360.",
"help": ""
},
{
"name": "Hillshade",
"description": "Creates a 3D representation of the surface, with the sun's relative position taken into account for shading the image.",
"help": ""
},
{
"name": "Meters to Feet",
"description": "Converts elevation units from meters (source data) to feet.",
"help": "Apply this to an elevation raster where elevation pixel values are expressed in meters."
},
{
"name": "Shaded Relief",
"description": "A raster function template.",
"help": ""
},
{
"name": "Slope in Degree",
"description": "A raster function template.",
"help": ""
},
{
"name": "Slope in Percent rise",
"description": "A raster function template.",
"help": ""
}
]}
Mensuration Capabilities: Basic
Inspection Capabilities:
Has Histograms: true
Has Colormap: false
Has Multi Dimensions : false
Rendering Rule:
Min Scale: 0
Max Scale: 0
Resampling: false
Copyright Text:
Service Data Type: esriImageServiceDataTypeElevation
Min Values: 1805.4927015304565
Max Values: 2821.7704820632935
Mean Values: 1841.5821668787985
Standard Deviation Values: 83.8528026736231
Object ID Field: OBJECTID
Fields:
-
OBJECTID
(
type: esriFieldTypeOID, alias: OBJECTID
)
-
Shape
(
type: esriFieldTypeGeometry, alias: Shape
)
-
Name
(
type: esriFieldTypeString, alias: Name, length: 200
)
-
MinPS
(
type: esriFieldTypeDouble, alias: MinPS
)
-
MaxPS
(
type: esriFieldTypeDouble, alias: MaxPS
)
-
LowPS
(
type: esriFieldTypeDouble, alias: LowPS
)
-
HighPS
(
type: esriFieldTypeDouble, alias: HighPS
)
-
Category
(
type: esriFieldTypeInteger, alias: Category
, Coded Values:
[0: Unknown]
, [1: Primary]
, [2: Overview]
, ...6 more...
)
-
Tag
(
type: esriFieldTypeString, alias: Tag, length: 100
)
-
GroupName
(
type: esriFieldTypeString, alias: GroupName, length: 100
)
-
ProductName
(
type: esriFieldTypeString, alias: ProductName, length: 100
)
-
CenterX
(
type: esriFieldTypeDouble, alias: CenterX
)
-
CenterY
(
type: esriFieldTypeDouble, alias: CenterY
)
-
ZOrder
(
type: esriFieldTypeInteger, alias: ZOrder
)
-
Shape_Length
(
type: esriFieldTypeDouble, alias: Shape_Length
)
-
Shape_Area
(
type: esriFieldTypeDouble, alias: Shape_Area
)
Default Mosaic Method: Northwest
Allowed Mosaic Methods: NorthWest,Center,LockRaster,ByAttribute,Nadir,Viewpoint,Seamline,None
SortField:
SortValue: null
Mosaic Operator: First
Default Compression Quality: 75
Default Resampling Method: Bilinear
Max Record Count: 1000
Max Image Height: 10000
Max Image Width: 10000
Max Download Image Count: 20
Max Mosaic Image Count: 20
Allow Raster Function: true
Allow Copy: true
Allow Analysis: true
Allow Compute TiePoints: false
Supports Statistics: true
Supports Advanced Queries: true
Use StandardizedQueries: true
Raster Type Infos:
Name: Raster Dataset
Description: Supports all ArcGIS Raster Datasets
Help:
Has Raster Attribute Table: false
Edit Fields Info: null
Ownership Based AccessControl For Rasters: null
Child Resources:
Info
Histograms
Statistics
Key Properties
Legend
Raster Function Infos
Supported Operations:
Export Image
Query
Identify
Download Rasters
Get Image Url
Measure
Compute Histograms
Compute Statistics Histograms
Get Samples
Compute Class Statistics
Query GPS Info
Find Images
Image to Map
Map to Image
Measure from Image
Image to Map Multiray
Query Boundary
Compute Pixel Location
Compute Angles
Validate
Project
Calculate Volume