View In:
ArcGIS JavaScript
ArcGIS Online Map Viewer
ArcGIS Earth
Service Description: Lidar/Steep_Slopes_for_Southeast_Idaho
Name: Lidar/Steep_Slopes_for_Southeast_Idaho
Description:
Single Fused Map Cache: false
Extent:
XMin: 2561543.5244005085
YMin: 1200261.4339477434
XMax: 2744655.5244005085
YMax: 1323832.4339477434
Spatial Reference: 102605
(8826)
VCSWkid(5703)
LatestVCSWkid(5703)
Initial Extent:
XMin: 2561543.5244005085
YMin: 1200261.4339477434
XMax: 2744655.5244005085
YMax: 1323832.4339477434
Spatial Reference: 102605
(8826)
VCSWkid(5703)
LatestVCSWkid(5703)
Full Extent:
XMin: 2561543.5244005085
YMin: 1200261.4339477434
XMax: 2744655.5244005085
YMax: 1323832.4339477434
Spatial Reference: 102605
(8826)
VCSWkid(5703)
LatestVCSWkid(5703)
Pixel Size X: 1.0
Pixel Size Y: 1.0
Band Count: 1
Pixel Type: U8
RasterFunction Infos: {"rasterFunctionInfos": [
{
"name": "None",
"description": "Make a Raster or Raster Dataset into a Function Raster Dataset.",
"help": ""
},
{
"name": "Aspect",
"description": "Shows which direction a pixel is facing, where 0 is due north and angles increase clockwise to 360.",
"help": ""
},
{
"name": "Hillshade",
"description": "Creates a 3D representation of the surface, with the sun's relative position taken into account for shading the image.",
"help": ""
},
{
"name": "Meters to Feet",
"description": "Converts elevation units from meters (source data) to feet.",
"help": "Apply this to an elevation raster where elevation pixel values are expressed in meters."
},
{
"name": "Shaded Relief",
"description": "A raster function template.",
"help": ""
},
{
"name": "Slope in Degree",
"description": "A raster function template.",
"help": ""
},
{
"name": "Slope in Percent rise",
"description": "A raster function template.",
"help": ""
}
]}
Mensuration Capabilities: Basic
Inspection Capabilities:
Has Histograms: true
Has Colormap: false
Has Multi Dimensions : false
Rendering Rule:
Min Scale: 0
Max Scale: 0
Copyright Text:
Service Data Type: esriImageServiceDataTypeGeneric
Min Values: 0
Max Values: 1
Mean Values: 0.25255388603312
Standard Deviation Values: 0.4344771808642
Object ID Field:
Fields:
None
Default Mosaic Method: Center
Allowed Mosaic Methods:
SortField:
SortValue: null
Mosaic Operator: First
Default Compression Quality: 75
Default Resampling Method: Bilinear
Max Record Count: null
Max Image Height: 4100
Max Image Width: 15000
Max Download Image Count: null
Max Mosaic Image Count: null
Allow Raster Function: true
Allow Copy: true
Allow Analysis: true
Allow Compute TiePoints: false
Supports Statistics: false
Supports Advanced Queries: false
Use StandardizedQueries: true
Raster Type Infos:
Name: Raster Dataset
Description: Supports all ArcGIS Raster Datasets
Help:
Has Raster Attribute Table: true
Edit Fields Info: null
Ownership Based AccessControl For Rasters: null
Child Resources:
Info
Raster Attribute Table
Histograms
Statistics
Key Properties
Legend
Raster Function Infos
Supported Operations:
Export Image
Identify
Measure
Compute Histograms
Compute Statistics Histograms
Get Samples
Compute Class Statistics
Query Boundary
Compute Pixel Location
Compute Angles
Validate
Project