View In:
ArcGIS JavaScript
ArcGIS Online Map Viewer
ArcGIS Earth
Service Description: RECOVER/NDVI_Baseline_CRF
Name: RECOVER/NDVI_Baseline_CRF
Description:
Single Fused Map Cache: false
Extent:
XMin: -2498808.194700001
YMin: 865782.6055000001
XMax: -311628.1947000008
YMax: 3333252.6055
Spatial Reference: 102039
(102039)
Initial Extent:
XMin: -2498808.194700001
YMin: 865782.6055000001
XMax: -311628.1947000008
YMax: 3333252.6055
Spatial Reference: 102039
(102039)
Full Extent:
XMin: -2498808.194700001
YMin: 865782.6055000001
XMax: -311628.1947000008
YMax: 3333252.6055
Spatial Reference: 102039
(102039)
Time Info:
Start Time Field: StdTime
End Time Field: StdTime
Time Extent:
[2013/04/01 00:00:00 UTC, 2022/09/30 00:00:00 UTC]
Time Reference:
N/A
Pixel Size X: 30.0
Pixel Size Y: 30.0
Band Count: 1
Pixel Type: S16
RasterFunction Infos: {"rasterFunctionInfos": [{
"name": "None",
"description": "",
"help": ""
}]}
Mensuration Capabilities: Basic
Inspection Capabilities:
Has Histograms: true
Has Colormap: false
Has Multi Dimensions : true
Rendering Rule:
Min Scale: 0
Max Scale: 0
Resampling: false
Copyright Text:
Service Data Type: esriImageServiceDataTypeGeneric
Min Values: -10000
Max Values: 9999
Mean Values: 1221.7305389784995
Standard Deviation Values: 988.3768190291339
Object ID Field:
Fields:
None
Default Mosaic Method: Center
Allowed Mosaic Methods:
SortField:
SortValue: null
Mosaic Operator: First
Default Compression Quality: 75
Default Resampling Method: Bilinear
Max Record Count: null
Max Image Height: 10000
Max Image Width: 10000
Max Download Image Count: null
Max Mosaic Image Count: null
Allow Raster Function: true
Allow Copy: true
Allow Analysis: true
Allow Compute TiePoints: false
Supports Statistics: false
Supports Advanced Queries: false
Use StandardizedQueries: true
Raster Type Infos:
Name: Raster Dataset
Description: Supports all ArcGIS Raster Datasets
Help:
Has Raster Attribute Table: false
Edit Fields Info: null
Ownership Based AccessControl For Rasters: null
Child Resources:
Info
Histograms
Statistics
Key Properties
Legend
Raster Function Infos
Multidimensional Info
Slices
Supported Operations:
Export Image
Identify
Measure
Compute Histograms
Compute Statistics Histograms
Get Samples
Compute Class Statistics
Query Boundary
Compute Pixel Location
Compute Angles
Validate
Project