View In:
ArcGIS JavaScript
ArcGIS Online Map Viewer
ArcGIS Earth
Service Description: RECOVER/WhiteBarkPineDistribution2019
Name: RECOVER/WhiteBarkPineDistribution2019
Description:
Single Fused Map Cache: false
Extent:
XMin: -2354934.7808999983
YMin: 992991.4399999995
XMax: -504294.78089999827
YMax: 3165591.4399999995
Spatial Reference: 5070
(5070)
Initial Extent:
XMin: -2354934.7808999983
YMin: 992991.4399999995
XMax: -504294.78089999827
YMax: 3165591.4399999995
Spatial Reference: 5070
(5070)
Full Extent:
XMin: -2354934.7808999983
YMin: 992991.4399999995
XMax: -504294.78089999827
YMax: 3165591.4399999995
Spatial Reference: 5070
(5070)
Pixel Size X: 30.0
Pixel Size Y: 30.0
Band Count: 1
Pixel Type: U2
RasterFunction Infos: {"rasterFunctionInfos": [{
"name": "None",
"description": "",
"help": ""
}]}
Mensuration Capabilities: Basic
Inspection Capabilities:
Has Histograms: true
Has Colormap: false
Has Multi Dimensions : false
Rendering Rule:
Min Scale: 0
Max Scale: 0
Copyright Text:
Service Data Type: esriImageServiceDataTypeThematic
Min Values: 0
Max Values: 1
Mean Values: 0.040834037289827
Standard Deviation Values: 0.19790558026447
Object ID Field:
Fields:
None
Default Mosaic Method: Center
Allowed Mosaic Methods:
SortField:
SortValue: null
Mosaic Operator: First
Default Compression Quality: 75
Default Resampling Method: Bilinear
Max Record Count: null
Max Image Height: 4100
Max Image Width: 15000
Max Download Image Count: null
Max Mosaic Image Count: null
Allow Raster Function: true
Allow Copy: true
Allow Analysis: true
Allow Compute TiePoints: false
Supports Statistics: false
Supports Advanced Queries: false
Use StandardizedQueries: true
Raster Type Infos:
Name: Raster Dataset
Description: Supports all ArcGIS Raster Datasets
Help:
Has Raster Attribute Table: true
Edit Fields Info: null
Ownership Based AccessControl For Rasters: null
Child Resources:
Info
Raster Attribute Table
Histograms
Statistics
Key Properties
Legend
Raster Function Infos
Supported Operations:
Export Image
Identify
Measure
Compute Histograms
Compute Statistics Histograms
Get Samples
Compute Class Statistics
Query Boundary
Compute Pixel Location
Compute Angles
Validate
Project