View In:
ArcGIS JavaScript
ArcGIS Online Map Viewer
ArcGIS Earth
Service Description: FEMA_BRIC/Fire_Susceptibility
Name: FEMA_BRIC/Fire_Susceptibility
Description:
Single Fused Map Cache: false
Extent:
XMin: 2601734.5244005085
YMin: 1230433.4339477434
XMax: 2674844.5244005085
YMax: 1315393.4339477434
Spatial Reference: 102605
(8826)
Initial Extent:
XMin: 2601734.5244005085
YMin: 1230433.4339477434
XMax: 2674844.5244005085
YMax: 1315393.4339477434
Spatial Reference: 102605
(8826)
Full Extent:
XMin: 2601734.5244005085
YMin: 1230433.4339477434
XMax: 2674844.5244005085
YMax: 1315393.4339477434
Spatial Reference: 102605
(8826)
Pixel Size X: 30.0
Pixel Size Y: 30.0
Band Count: 1
Pixel Type: F32
RasterFunction Infos: {"rasterFunctionInfos": [{
"name": "None",
"description": "",
"help": ""
}]}
Mensuration Capabilities: Basic
Inspection Capabilities:
Has Histograms: true
Has Colormap: false
Has Multi Dimensions : false
Rendering Rule:
Min Scale: 0
Max Scale: 0
Copyright Text:
Service Data Type: esriImageServiceDataTypeGeneric
Min Values: 2067
Max Values: 67554.4921875
Mean Values: 23661.491537308
Standard Deviation Values: 9755.4812966815
Object ID Field:
Fields:
None
Default Mosaic Method: Center
Allowed Mosaic Methods:
SortField:
SortValue: null
Mosaic Operator: First
Default Compression Quality: 75
Default Resampling Method: Bilinear
Max Record Count: null
Max Image Height: 4100
Max Image Width: 15000
Max Download Image Count: null
Max Mosaic Image Count: null
Allow Raster Function: true
Allow Copy: true
Allow Analysis: true
Allow Compute TiePoints: false
Supports Statistics: false
Supports Advanced Queries: false
Use StandardizedQueries: true
Raster Type Infos:
Name: Raster Dataset
Description: Supports all ArcGIS Raster Datasets
Help:
Has Raster Attribute Table: false
Edit Fields Info: null
Ownership Based AccessControl For Rasters: null
Child Resources:
Info
Histograms
Statistics
Key Properties
Legend
Raster Function Infos
Supported Operations:
Export Image
Identify
Measure
Compute Histograms
Compute Statistics Histograms
Get Samples
Compute Class Statistics
Query Boundary
Compute Pixel Location
Compute Angles
Validate
Project