View In:
ArcGIS JavaScript
ArcGIS Online Map Viewer
ArcGIS Earth
Service Description: NED/Topography_Slope_Steepness_Rating
Name: NED/Topography_Slope_Steepness_Rating
Description:
Single Fused Map Cache: false
Extent:
XMin: -2354941.263075389
YMin: 992990.7730424833
XMax: -504321.26307538897
YMax: 3165590.7730424833
Spatial Reference: 102039
(102039)
VCSWkid(5703)
LatestVCSWkid(5703)
Initial Extent:
XMin: -2354941.263075389
YMin: 992990.7730424833
XMax: -504321.26307538897
YMax: 3165590.7730424833
Spatial Reference: 102039
(102039)
VCSWkid(5703)
LatestVCSWkid(5703)
Full Extent:
XMin: -2354941.263075389
YMin: 992990.7730424833
XMax: -504321.26307538897
YMax: 3165590.7730424833
Spatial Reference: 102039
(102039)
VCSWkid(5703)
LatestVCSWkid(5703)
Pixel Size X: 10.0
Pixel Size Y: 10.0
Band Count: 1
Pixel Type: U4
RasterFunction Infos: {"rasterFunctionInfos": [{
"name": "None",
"description": "",
"help": ""
}]}
Mensuration Capabilities: Basic
Inspection Capabilities:
Has Histograms: true
Has Colormap: false
Has Multi Dimensions : false
Rendering Rule:
Min Scale: 0
Max Scale: 0
Copyright Text:
Service Data Type: esriImageServiceDataTypeThematic
Min Values: 1
Max Values: 10
Mean Values: 4.3553987303711
Standard Deviation Values: 2.548337179054
Object ID Field:
Fields:
None
Default Mosaic Method: Center
Allowed Mosaic Methods:
SortField:
SortValue: null
Mosaic Operator: First
Default Compression Quality: 75
Default Resampling Method: Bilinear
Max Record Count: null
Max Image Height: 4100
Max Image Width: 15000
Max Download Image Count: null
Max Mosaic Image Count: null
Allow Raster Function: true
Allow Copy: true
Allow Analysis: true
Allow Compute TiePoints: false
Supports Statistics: false
Supports Advanced Queries: false
Use StandardizedQueries: true
Raster Type Infos:
Name: Raster Dataset
Description: Supports all ArcGIS Raster Datasets
Help:
Has Raster Attribute Table: true
Edit Fields Info: null
Ownership Based AccessControl For Rasters: null
Child Resources:
Info
Raster Attribute Table
Histograms
Statistics
Key Properties
Legend
Raster Function Infos
Supported Operations:
Export Image
Identify
Measure
Compute Histograms
Compute Statistics Histograms
Get Samples
Compute Class Statistics
Query Boundary
Compute Pixel Location
Compute Angles
Validate
Project