View In:
ArcGIS JavaScript
ArcGIS Online Map Viewer
ArcGIS Earth
Service Description: Topography of the Western US was developed using the USGS NED. It is a single, seamless TIF file originally designed to support the NASA RECOVER wildfire decision support system (DSS). Embedded within this image service are various raster function chains or templates that allow the user to easily view/analyze aspect, slope, and hillshade as well.
Name: NED/Topography_WesternUS
Description: Topography of the Western US was developed using the USGS NED. It is a single, seamless TIF file originally designed to support the NASA RECOVER wildfire decision support system (DSS). Embedded within this image service are various raster function chains or templates that allow the user to easily view/analyze aspect, slope, and hillshade as well.
Single Fused Map Cache: false
Extent:
XMin: -2354941.263075389
YMin: 992990.7730424833
XMax: -504321.26307538897
YMax: 3165590.7730424833
Spatial Reference: 102039
(102039)
Initial Extent:
XMin: -2354941.263075389
YMin: 992990.7730424833
XMax: -504321.26307538897
YMax: 3165590.7730424833
Spatial Reference: 102039
(102039)
Full Extent:
XMin: -2354941.263075389
YMin: 992990.7730424833
XMax: -504321.26307538897
YMax: 3165590.7730424833
Spatial Reference: 102039
(102039)
Pixel Size X: 10.0
Pixel Size Y: 10.0
Band Count: 1
Pixel Type: S16
RasterFunction Infos: {"rasterFunctionInfos": [
{
"name": "None",
"description": "Make a Raster or Raster Dataset into a Function Raster Dataset.",
"help": ""
},
{
"name": "Aspect",
"description": "A raster function template.",
"help": ""
},
{
"name": "Hillshading",
"description": "A raster function template.",
"help": ""
},
{
"name": "Shaded Relief",
"description": "A raster function template.",
"help": ""
},
{
"name": "Slope in Degree",
"description": "A raster function template.",
"help": ""
},
{
"name": "Slope in Percent rise",
"description": "A raster function template.",
"help": ""
},
{
"name": "Meters to Feet",
"description": "Converts elevation units from meters (source data) to feet.",
"help": "Apply this to an elevation raster where elevation pixel values are expressed in meters."
}
]}
Mensuration Capabilities: Basic
Inspection Capabilities:
Has Histograms: true
Has Colormap: false
Has Multi Dimensions : false
Rendering Rule:
Min Scale: 0
Max Scale: 0
Resampling: false
Copyright Text: USGS and the GIS TReC @ ISU
Service Data Type: esriImageServiceDataTypeElevation
Min Values: -85
Max Values: 4414
Mean Values: 1446.6113323833
Standard Deviation Values: 702.94455780808
Object ID Field:
Fields:
None
Default Mosaic Method: Center
Allowed Mosaic Methods:
SortField:
SortValue: null
Mosaic Operator: First
Default Compression Quality: 75
Default Resampling Method: Bilinear
Max Record Count: null
Max Image Height: 4100
Max Image Width: 15000
Max Download Image Count: null
Max Mosaic Image Count: null
Allow Raster Function: true
Allow Copy: true
Allow Analysis: true
Allow Compute TiePoints: false
Supports Statistics: false
Supports Advanced Queries: false
Use StandardizedQueries: true
Raster Type Infos:
Name: Raster Dataset
Description: Supports all ArcGIS Raster Datasets
Help:
Has Raster Attribute Table: false
Edit Fields Info: null
Ownership Based AccessControl For Rasters: null
Child Resources:
Info
Histograms
Statistics
Key Properties
Legend
Raster Function Infos
Supported Operations:
Export Image
Identify
Measure
Compute Histograms
Compute Statistics Histograms
Get Samples
Compute Class Statistics
Query Boundary
Compute Pixel Location
Compute Angles
Validate
Project
Calculate Volume