View In:
ArcGIS JavaScript
ArcGIS Online Map Viewer
ArcGIS Earth
Service Description: RECOVER/NDVI_Maximum
Name: RECOVER/NDVI_Maximum
Description:
Single Fused Map Cache: false
Extent:
XMin: -2354934.7808999997
YMin: 992991.5648999996
XMax: -504319.7226
YMax: 3165591.4399999995
Spatial Reference: 102039
(102039)
Initial Extent:
XMin: -2354934.7808999997
YMin: 992991.5648999996
XMax: -504319.7226
YMax: 3165591.4399999995
Spatial Reference: 102039
(102039)
Full Extent:
XMin: -2354934.7808999997
YMin: 992991.5648999996
XMax: -504319.7226
YMax: 3165591.4399999995
Spatial Reference: 102039
(102039)
Pixel Size X: 29.999595679872904
Pixel Size Y: 29.999998275338303
Band Count: 1
Pixel Type: S16
RasterFunction Infos: {"rasterFunctionInfos": [{
"name": "None",
"description": "",
"help": ""
}]}
Mensuration Capabilities: Basic
Inspection Capabilities:
Has Histograms: true
Has Colormap: false
Has Multi Dimensions : false
Rendering Rule:
Min Scale: 0
Max Scale: 0
Copyright Text:
Service Data Type: esriImageServiceDataTypeScientific
Min Values: -241
Max Values: 9999
Mean Values: 2643.2179103391
Standard Deviation Values: 1213.8941773134
Object ID Field:
Fields:
None
Default Mosaic Method: Center
Allowed Mosaic Methods:
SortField:
SortValue: null
Mosaic Operator: First
Default Compression Quality: 75
Default Resampling Method: Bilinear
Max Record Count: null
Max Image Height: 4100
Max Image Width: 15000
Max Download Image Count: null
Max Mosaic Image Count: null
Allow Raster Function: true
Allow Copy: true
Allow Analysis: true
Allow Compute TiePoints: false
Supports Statistics: false
Supports Advanced Queries: false
Use StandardizedQueries: true
Raster Type Infos:
Name: Raster Dataset
Description: Supports all ArcGIS Raster Datasets
Help:
Has Raster Attribute Table: false
Edit Fields Info: null
Ownership Based AccessControl For Rasters: null
Child Resources:
Info
Histograms
Statistics
Key Properties
Legend
Raster Function Infos
Supported Operations:
Export Image
Identify
Measure
Compute Histograms
Compute Statistics Histograms
Get Samples
Compute Class Statistics
Query Boundary
Compute Pixel Location
Compute Angles
Validate
Project