View In:
ArcGIS JavaScript
ArcGIS Online Map Viewer
ArcGIS Earth
Service Description: TopographyHillshade_WesternUS
Name: TopographyHillshade_WesternUS
Description:
Single Fused Map Cache: false
Extent:
XMin: -2354934.7808999997
YMin: 992991.5648999996
XMax: -504319.72259999975
YMax: 3165595.7633919446
Spatial Reference: 102039
(102039)
VCSWkid(5703)
LatestVCSWkid(5703)
Initial Extent:
XMin: -2354934.7808999997
YMin: 992991.5648999996
XMax: -504319.72259999975
YMax: 3165595.7633919446
Spatial Reference: 102039
(102039)
VCSWkid(5703)
LatestVCSWkid(5703)
Full Extent:
XMin: -2354934.7808999997
YMin: 992991.5648999996
XMax: -504319.72259999975
YMax: 3165595.7633919446
Spatial Reference: 102039
(102039)
VCSWkid(5703)
LatestVCSWkid(5703)
Pixel Size X: 9.999973297057203
Pixel Size Y: 9.999973297057203
Band Count: 1
Pixel Type: U8
RasterFunction Infos: {"rasterFunctionInfos": [{
"name": "None",
"description": "",
"help": ""
}]}
Mensuration Capabilities: Basic
Inspection Capabilities:
Has Histograms: true
Has Colormap: false
Has Multi Dimensions : false
Rendering Rule:
Min Scale: 0
Max Scale: 0
Copyright Text:
Service Data Type: esriImageServiceDataTypeGeneric
Min Values: 1
Max Values: 254
Mean Values: 174.90322500574
Standard Deviation Values: 30.875590618249
Object ID Field:
Fields:
None
Default Mosaic Method: Center
Allowed Mosaic Methods:
SortField:
SortValue: null
Mosaic Operator: First
Default Compression Quality: 75
Default Resampling Method: Bilinear
Max Record Count: null
Max Image Height: 4100
Max Image Width: 15000
Max Download Image Count: null
Max Mosaic Image Count: null
Allow Raster Function: true
Allow Copy: true
Allow Analysis: true
Allow Compute TiePoints: false
Supports Statistics: false
Supports Advanced Queries: false
Use StandardizedQueries: true
Raster Type Infos:
Name: Raster Dataset
Description: Supports all ArcGIS Raster Datasets
Help:
Has Raster Attribute Table: true
Edit Fields Info: null
Ownership Based AccessControl For Rasters: null
Child Resources:
Info
Raster Attribute Table
Histograms
Statistics
Key Properties
Legend
Raster Function Infos
Supported Operations:
Export Image
Identify
Measure
Compute Histograms
Compute Statistics Histograms
Get Samples
Compute Class Statistics
Query Boundary
Compute Pixel Location
Compute Angles
Validate
Project